BEGIN:VCALENDAR
PRODID:-//Date iCal//NONSGML Brightspot CMS//
VERSION:2.0
METHOD:PUBLISH
BEGIN:VEVENT
DTSTAMP:20260420T175847Z
SUMMARY:RefWorks Citation Manager Workshop
UID:calendar.0000018d-e864-df82-a98d-ef7fbd970000field_event_date.0@calendar.byu.edu
CREATED:20240227T234124Z
LAST-MODIFIED:20240227T234124Z
LOCATION:Library Instruction Room (JFS 258)
DTSTART;TZID=Pacific/Honolulu:20240325T160000
DTEND;TZID=Pacific/Honolulu:20240325T170000
ORGANIZER;CN="Becky DeMartini:MAILTO:becky.demartini@byuh.edu:TEL:(808) 675-3946":
SUMMARY:RefWorks Citation Manager Workshop
DESCRIPTION:A tool to manage and organize your citations needed for assignments and research. Join RefWorks workshops to learn how this tool can help you with your assignments.
URL:https://library.byuh.edu/refworks-citation-manager-workshop-2024-03-25
END:VEVENT
BEGIN:VTIMEZONE
TZID:Pacific/Honolulu
TZURL:http://tzurl.org/zoneinfo/Pacific/Honolulu
X-LIC-LOCATION:Pacific/Honolulu
BEGIN:STANDARD
TZOFFSETFROM:-103126
TZOFFSETTO:-1030
TZNAME:HST
DTSTART:18960113T120000
RDATE:18960113T120000
END:STANDARD
BEGIN:DAYLIGHT
TZOFFSETFROM:-1030
TZOFFSETTO:-0930
TZNAME:HDT
DTSTART:19330430T020000
RDATE:19330430T020000
END:DAYLIGHT
BEGIN:STANDARD
TZOFFSETFROM:-0930
TZOFFSETTO:-1030
TZNAME:HST
DTSTART:19330521T120000
RDATE:19330521T120000
RDATE:19450930T020000
END:STANDARD
BEGIN:DAYLIGHT
TZOFFSETFROM:-1030
TZOFFSETTO:-0930
TZNAME:HWT
DTSTART:19420209T020000
RDATE:19420209T020000
END:DAYLIGHT
BEGIN:DAYLIGHT
TZOFFSETFROM:-0930
TZOFFSETTO:-0930
TZNAME:HPT
DTSTART:19450814T133000
RDATE:19450814T133000
END:DAYLIGHT
BEGIN:STANDARD
TZOFFSETFROM:-1030
TZOFFSETTO:-1000
TZNAME:HST
DTSTART:19470608T020000
RDATE:19470608T020000
END:STANDARD
END:VTIMEZONE
END:VCALENDAR
